Workbook
Name Arturo: 'Insumo Plan 01'!$B$5
Name Colaborador: 'Insumo Plan 01'!$A$3:$A$5
Name Foto: 'Insumo Plan 01'!$B$3:$B$5
Name Maria: 'Insumo Plan 01'!$B$4
Name Miguel: 'Insumo Plan 01'!$B$3
Name SegmentaciónDeDatos_Colaborador: #N/A
Name Trabajador: INDIRECT('Insumo Plan 01'!$G$38)

Sheet Plan 01
A4: Componente | B4: Inicio | C4: Finaliza | D4: Días | E4: % Avance | F4: Estado | G4: Febrero | AJ4: Marzo | BO4: Abril | CS4: Mayo | DX4: Junio | FB4: Julio | GG4: Agosto | HL4: Setiembre | IP4: Octubre | JU4: Noviembre | KY4: Diciembre
E5: 0.89 | G5: 43862 | H5: 43863 | I5: 43864 | J5: 43865 | K5: 43866 | L5: 43867 | M5: 43868 | N5: 43869 | O5: 43870 | P5: 43871 | Q5: 43872 | R5: 43873 | S5: 43874 | T5: 43875 | U5: 43876 | V5: 43877 | W5: 43878 | X5: 43879 | Y5: 43880 | Z5: 43881 | AA5: 43882 | AB5: 43883 | AC5: 43884 | AD5: 43885 | AE5: 43886 | AF5: 43887 | AG5: 43888 | AH5: 43889 | AI5: 43890 | AJ5: 43891 | AK5: 43892 | AL5: 43893 | AM5: 43894 | AN5: 43895 | AO5: 43896 | AP5: 43897 | AQ5: 43898 | AR5: 43899 | AS5: 43900 | AT5: 43901 | AU5: 43902 | AV5: 43903 | AW5: 43904 | AX5: 43905 | AY5: 43906 | AZ5: 43907 | BA5: 43908 | BB5: 43909 | BC5: 43910 | BD5: 43911 | BE5: 43912 | BF5: 43913 | BG5: 43914 | BH5: 43915 | BI5: 43916 | BJ5: 43917 | BK5: 43918 | BL5: 43919 | BM5: 43920 | BN5: 43921 | BO5: 43922 | BP5: 43923 | BQ5: 43924 | BR5: 43925 | BS5: 43926 | BT5: 43927 | BU5: 43928 | BV5: 43929 | BW5: 43930 | BX5: 43931 | BY5: 43932 | BZ5: 43933 | CA5: 43934 | CB5: 43935 | CC5: 43936 | CD5: 43937 | CE5: 43938 | CF5: 43939 | CG5: 43940 | CH5: 43941 | CI5: 43942 | CJ5: 43943 | CK5: 43944 | CL5: 43945 | CM5: 43946 | CN5: 43947 | CO5: 43948 | CP5: 43949 | CQ5: 43950 | CR5: 43951 | CS5: 43952 | CT5: 43953 | CU5: 43954 | CV5: 43955 | CW5: 43956 | CX5: 43957 | CY5: 43958 | CZ5: 43959 | DA5: 43960 | DB5: 43961 | DC5: 43962 | DD5: 43963 | DE5: 43964 | DF5: 43965 | DG5: 43966 | DH5: 43967 | DI5: 43968 | DJ5: 43969 | DK5: 43970 | DL5: 43971 | DM5: 43972 | DN5: 43973 | DO5: 43974 | DP5: 43975 | DQ5: 43976 | DR5: 43977 | DS5: 43978 | DT5: 43979 | DU5: 43980 | DV5: 43981 | DW5: 43982 | DX5: 43983 | DY5: 43984 | DZ5: 43985 | EA5: 43986 | EB5: 43987 | EC5: 43988 | ED5: 43989 | EE5: 43990 | EF5: 43991 | EG5: 43992 | EH5: 43993 | EI5: 43994 | EJ5: 43995 | EK5: 43996 | EL5: 43997 | EM5: 43998 | EN5: 43999 | EO5: 44000 | EP5: 44001 | EQ5: 44002 | ER5: 44003 | ES5: 44004 | ET5: 44005 | EU5: 44006 | EV5: 44007 | EW5: 44008 | EX5: 44009 | EY5: 44010 | EZ5: 44011 | FA5: 44012 | FB5: 44013 | FC5: 44014 | FD5: 44015 | FE5: 44016 | FF5: 44017 | FG5: 44018 | FH5: 44019 | FI5: 44020 | FJ5: 44021 | FK5: 44022 | FL5: 44023 | FM5: 44024 | FN5: 44025 | FO5: 44026 | FP5: 44027 | FQ5: 44028 | FR5: 44029 | FS5: 44030 | FT5: 44031 | FU5: 44032 | FV5: 44033 | FW5: 44034 | FX5: 44035 | FY5: 44036 | FZ5: 44037 | GA5: 44038 | GB5: 44039 | GC5: 44040 | GD5: 44041 | GE5: 44042 | GF5: 44043 | GG5: 44044 | GH5: 44045 | GI5: 44046 | GJ5: 44047 | GK5: 44048 | GL5: 44049 | GM5: 44050 | GN5: 44051 | GO5: 44052 | GP5: 44053 | GQ5: 44054 | GR5: 44055 | GS5: 44056 | GT5: 44057 | GU5: 44058 | GV5: 44059 | GW5: 44060 | GX5: 44061 | GY5: 44062 | GZ5: 44063 | HA5: 44064 | HB5: 44065 | HC5: 44066 | HD5: 44067 | HE5: 44068 | HF5: 44069 | HG5: 44070 | HH5: 44071 | HI5: 44072 | HJ5: 44073 | HK5: 44074 | HL5: 44075 | HM5: 44076 | HN5: 44077 | HO5: 44078 | HP5: 44079 | HQ5: 44080 | HR5: 44081 | HS5: 44082 | HT5: 44083 | HU5: 44084 | HV5: 44085 | HW5: 44086 | HX5: 44087 | HY5: 44088 | HZ5: 44089 | IA5: 44090 | IB5: 44091 | IC5: 44092 | ID5: 44093 | IE5: 44094 | IF5: 44095 | IG5: 44096 | IH5: 44097 | II5: 44098 | IJ5: 44099 | IK5: 44100 | IL5: 44101 | IM5: 44102 | IN5: 44103 | IO5: 44104 | IP5: 44105 | IQ5: 44106 | IR5: 44107 | IS5: 44108 | IT5: 44109 | IU5: 44110 | IV5: 44111 | IW5: 44112 | IX5: 44113 | IY5: 44114 | IZ5: 44115 | JA5: 44116 | JB5: 44117 | JC5: 44118 | JD5: 44119 | JE5: 44120 | JF5: 44121 | JG5: 44122 | JH5: 44123 | JI5: 44124 | JJ5: 44125 | JK5: 44126 | JL5: 44127 | JM5: 44128 | JN5: 44129 | JO5: 44130 | JP5: 44131 | JQ5: 44132 | JR5: 44133 | JS5: 44134 | JT5: 44135 | JU5: 44136 | JV5: 44137 | JW5: 44138 | JX5: 44139 | JY5: 44140 | JZ5: 44141 | KA5: 44142 | KB5: 44143 | KC5: 44144 | KD5: 44145 | KE5: 44146 | KF5: 44147 | KG5: 44148 | KH5: 44149 | KI5: 44150 | KJ5: 44151 | KK5: 44152 | KL5: 44153 | KM5: 44154 | KN5: 44155 | KO5: 44156 | KP5: 44157 | KQ5: 44158 | KR5: 44159 | KS5: 44160 | KT5: 44161 | KU5: 44162 | KV5: 44163 | KW5: 44164 | KX5: 44165 | KY5: 44166 | KZ5: 44167 | LA5: 44168 | LB5: 44169 | LC5: 44170 | LD5: 44171 | LE5: 44172 | LF5: 44173 | LG5: 44174 | LH5: 44175 | LI5: 44176 | LJ5: 44177 | LK5: 44178 | LL5: 44179 | LM5: 44180 | LN5: 44181 | LO5: 44182 | LP5: 44183 | LQ5: 44184 | LR5: 44185 | LS5: 44186 | LT5: 44187 | LU5: 44188 | LV5: 44189 | LW5: 44190 | LX5: 44191 | LY5: 44192 | LZ5: 44193 | MA5: 44194 | MB5: 44195 | MC5: 44196
A6: Avance General | E6: =AVERAGE(E7,E12) -> 0.45125
A7: Componente 01 | E7: =AVERAGE(E8:E11) -> 0.7625
A8: Actividad 1 | B8: ='Insumo Plan 01'!J26 -> 43831 | C8: =B8+D8-1 -> 43882 | D8: ='Insumo Plan 01'!K26 -> 52 | E8: ='Insumo Plan 01'!L26 -> 0.89 | F8: =IF(E8<50%,"No Iniciado",IF(AND(E8>=50%,E8<=75%),"En Proceso","Completado")) -> Completado | G8: =IF(AND(G$5>=$B8,G$5<=$C8),$F8,"") -> Completado | H8: =IF(AND(H$5>=$B8,H$5<=$C8),$F8,"") -> Completado | I8: =IF(AND(I$5>=$B8,I$5<=$C8),$F8,"") -> Completado | J8: =IF(AND(J$5>=$B8,J$5<=$C8),$F8,"") -> Completado | K8: =IF(AND(K$5>=$B8,K$5<=$C8),$F8,"") -> Completado | L8: =IF(AND(L$5>=$B8,L$5<=$C8),$F8,"") -> Completado | M8: =IF(AND(M$5>=$B8,M$5<=$C8),$F8,"") -> Completado | N8: =IF(AND(N$5>=$B8,N$5<=$C8),$F8,"") -> Completado | ... MC8: =IF(AND(MC$5>=$B8,MC$5<=$C8),$F8,"")
A9: Actividad 2 | B9: ='Insumo Plan 01'!J27 -> 43886 | C9: =B9+D9-1 -> 43945 | D9: ='Insumo Plan 01'!K27 -> 60 | E9: ='Insumo Plan 01'!L27 -> 0.6 | F9: =IF(E9<50%,"No Iniciado",IF(AND(E9>=50%,E9<=75%),"En Proceso","Completado")) -> En Proceso | G9: =IF(AND(G$5>=$B9,G$5<=$C9),$F9,"") | H9: =IF(AND(H$5>=$B9,H$5<=$C9),$F9,"") | I9: =IF(AND(I$5>=$B9,I$5<=$C9),$F9,"") | J9: =IF(AND(J$5>=$B9,J$5<=$C9),$F9,"") | K9: =IF(AND(K$5>=$B9,K$5<=$C9),$F9,"") | L9: =IF(AND(L$5>=$B9,L$5<=$C9),$F9,"") | M9: =IF(AND(M$5>=$B9,M$5<=$C9),$F9,"") | N9: =IF(AND(N$5>=$B9,N$5<=$C9),$F9,"") | ... MC9: =IF(AND(MC$5>=$B9,MC$5<=$C9),$F9,"")
A10: Actividad 3 | B10: ='Insumo Plan 01'!J28 -> 43941 | C10: =B10+D10-1 -> 43996 | D10: ='Insumo Plan 01'!K28 -> 56 | E10: ='Insumo Plan 01'!L28 -> 0.9 | F10: =IF(E10<50%,"No Iniciado",IF(AND(E10>=50%,E10<=75%),"En Proceso","Completado")) -> Completado | G10: =IF(AND(G$5>=$B10,G$5<=$C10),$F10,"") | H10: =IF(AND(H$5>=$B10,H$5<=$C10),$F10,"") | I10: =IF(AND(I$5>=$B10,I$5<=$C10),$F10,"") | J10: =IF(AND(J$5>=$B10,J$5<=$C10),$F10,"") | K10: =IF(AND(K$5>=$B10,K$5<=$C10),$F10,"") | L10: =IF(AND(L$5>=$B10,L$5<=$C10),$F10,"") | M10: =IF(AND(M$5>=$B10,M$5<=$C10),$F10,"") | N10: =IF(AND(N$5>=$B10,N$5<=$C10),$F10,"") | ... MC10: =IF(AND(MC$5>=$B10,MC$5<=$C10),$F10,"")
A11: Actividad 4 | B11: ='Insumo Plan 01'!J29 -> 43996 | C11: =B11+D11-1 -> 44035 | D11: ='Insumo Plan 01'!K29 -> 40 | E11: ='Insumo Plan 01'!L29 -> 0.66 | F11: =IF(E11<50%,"No Iniciado",IF(AND(E11>=50%,E11<=75%),"En Proceso","Completado")) -> En Proceso | G11: =IF(AND(G$5>=$B11,G$5<=$C11),$F11,"") | H11: =IF(AND(H$5>=$B11,H$5<=$C11),$F11,"") | I11: =IF(AND(I$5>=$B11,I$5<=$C11),$F11,"") | J11: =IF(AND(J$5>=$B11,J$5<=$C11),$F11,"") | K11: =IF(AND(K$5>=$B11,K$5<=$C11),$F11,"") | L11: =IF(AND(L$5>=$B11,L$5<=$C11),$F11,"") | M11: =IF(AND(M$5>=$B11,M$5<=$C11),$F11,"") | N11: =IF(AND(N$5>=$B11,N$5<=$C11),$F11,"") | ... MC11: =IF(AND(MC$5>=$B11,MC$5<=$C11),$F11,"")
A12: Componente 02 | E12: =AVERAGE(E13:E15) -> 0.14
A13: Actividad 5 | B13: ='Insumo Plan 01'!J30 -> 44051 | C13: =B13+D13-1 -> 44109 | D13: ='Insumo Plan 01'!K30 -> 59 | E13: ='Insumo Plan 01'!L30 -> 0.1 | F13: =IF(E13<50%,"No Iniciado",IF(AND(E13>=50%,E13<=75%),"En Proceso","Completado")) -> No Iniciado | G13: =IF(AND(G$5>=$B13,G$5<=$C13),$F13,"") | H13: =IF(AND(H$5>=$B13,H$5<=$C13),$F13,"") | I13: =IF(AND(I$5>=$B13,I$5<=$C13),$F13,"") | J13: =IF(AND(J$5>=$B13,J$5<=$C13),$F13,"") | K13: =IF(AND(K$5>=$B13,K$5<=$C13),$F13,"") | L13: =IF(AND(L$5>=$B13,L$5<=$C13),$F13,"") | M13: =IF(AND(M$5>=$B13,M$5<=$C13),$F13,"") | N13: =IF(AND(N$5>=$B13,N$5<=$C13),$F13,"") | ... MC13: =IF(AND(MC$5>=$B13,MC$5<=$C13),$F13,"")
A14: Actividad 6 | B14: ='Insumo Plan 01'!J31 -> 44106 | C14: =B14+D14-1 -> 44167 | D14: ='Insumo Plan 01'!K31 -> 62 | E14: ='Insumo Plan 01'!L31 -> 0.26 | F14: =IF(E14<50%,"No Iniciado",IF(AND(E14>=50%,E14<=75%),"En Proceso","Completado")) -> No Iniciado | G14: =IF(AND(G$5>=$B14,G$5<=$C14),$F14,"") | H14: =IF(AND(H$5>=$B14,H$5<=$C14),$F14,"") | I14: =IF(AND(I$5>=$B14,I$5<=$C14),$F14,"") | J14: =IF(AND(J$5>=$B14,J$5<=$C14),$F14,"") | K14: =IF(AND(K$5>=$B14,K$5<=$C14),$F14,"") | L14: =IF(AND(L$5>=$B14,L$5<=$C14),$F14,"") | M14: =IF(AND(M$5>=$B14,M$5<=$C14),$F14,"") | N14: =IF(AND(N$5>=$B14,N$5<=$C14),$F14,"") | ... MC14: =IF(AND(MC$5>=$B14,MC$5<=$C14),$F14,"")
A15: Actividad 7 | B15: ='Insumo Plan 01'!J32 -> 44161 | C15: =B15+D15-1 -> 44179 | D15: ='Insumo Plan 01'!K32 -> 19 | E15: ='Insumo Plan 01'!L32 -> 0.06 | F15: =IF(E15<50%,"No Iniciado",IF(AND(E15>=50%,E15<=75%),"En Proceso","Completado")) -> No Iniciado | G15: =IF(AND(G$5>=$B15,G$5<=$C15),$F15,"") | H15: =IF(AND(H$5>=$B15,H$5<=$C15),$F15,"") | I15: =IF(AND(I$5>=$B15,I$5<=$C15),$F15,"") | J15: =IF(AND(J$5>=$B15,J$5<=$C15),$F15,"") | K15: =IF(AND(K$5>=$B15,K$5<=$C15),$F15,"") | L15: =IF(AND(L$5>=$B15,L$5<=$C15),$F15,"") | M15: =IF(AND(M$5>=$B15,M$5<=$C15),$F15,"") | N15: =IF(AND(N$5>=$B15,N$5<=$C15),$F15,"") | ... MC15: =IF(AND(MC$5>=$B15,MC$5<=$C15),$F15,"")
A18: Categoria | B18: Valor | C18: Rubro
A19: No Iniciado | B19: < 50%
A20: En Proceso | B20: 50% a 75%
A21: Completado | B21: > 75%

Sheet Insumo Plan 01
A2: Colaborador | B2: Foto
A3: Miguel
A4: Maria
A5: Arturo
A25: Colaborador | B25: Componente | C25: Inicio | D25: Días | E25: % Avance | I25: Componente | J25: Inicio | K25: Días | L25: % Avance
A26: Miguel | B26: Actividad 1 | C26: 43831 | D26: 52 | E26: 0.89 | I26: Actividad 1 | J26: =SUMIFS($C$26:$C$49,$A$26:$A$49,$G$38,$B$26:$B$49,I26) -> 43831 | K26: =SUMIFS($D$26:$D$49,$A$26:$A$49,$G$38,$B$26:$B$49,I26) -> 52 | L26: =SUMIFS($E$26:$E$49,$A$26:$A$49,$G$38,$B$26:$B$49,I26) -> 0.89
A27: Miguel | B27: Actividad 2 | C27: 43886 | D27: 60 | E27: 0.6 | I27: Actividad 2 | J27: =SUMIFS($C$26:$C$49,$A$26:$A$49,$G$38,$B$26:$B$49,I27) -> 43886 | K27: =SUMIFS($D$26:$D$49,$A$26:$A$49,$G$38,$B$26:$B$49,I27) -> 60 | L27: =SUMIFS($E$26:$E$49,$A$26:$A$49,$G$38,$B$26:$B$49,I27) -> 0.6
A28: Miguel | B28: Actividad 3 | C28: 43941 | D28: 56 | E28: 0.9 | I28: Actividad 3 | J28: =SUMIFS($C$26:$C$49,$A$26:$A$49,$G$38,$B$26:$B$49,I28) -> 43941 | K28: =SUMIFS($D$26:$D$49,$A$26:$A$49,$G$38,$B$26:$B$49,I28) -> 56 | L28: =SUMIFS($E$26:$E$49,$A$26:$A$49,$G$38,$B$26:$B$49,I28) -> 0.9
A29: Miguel | B29: Actividad 4 | C29: 43996 | D29: 40 | E29: 0.66 | I29: Actividad 4 | J29: =SUMIFS($C$26:$C$49,$A$26:$A$49,$G$38,$B$26:$B$49,I29) -> 43996 | K29: =SUMIFS($D$26:$D$49,$A$26:$A$49,$G$38,$B$26:$B$49,I29) -> 40 | L29: =SUMIFS($E$26:$E$49,$A$26:$A$49,$G$38,$B$26:$B$49,I29) -> 0.66
A30: Miguel | B30: Actividad 5 | C30: 44051 | D30: 59 | E30: 0.1 | I30: Actividad 5 | J30: =SUMIFS($C$26:$C$49,$A$26:$A$49,$G$38,$B$26:$B$49,I30) -> 44051 | K30: =SUMIFS($D$26:$D$49,$A$26:$A$49,$G$38,$B$26:$B$49,I30) -> 59 | L30: =SUMIFS($E$26:$E$49,$A$26:$A$49,$G$38,$B$26:$B$49,I30) -> 0.1
A31: Miguel | B31: Actividad 6 | C31: 44106 | D31: 62 | E31: 0.26 | I31: Actividad 6 | J31: =SUMIFS($C$26:$C$49,$A$26:$A$49,$G$38,$B$26:$B$49,I31) -> 44106 | K31: =SUMIFS($D$26:$D$49,$A$26:$A$49,$G$38,$B$26:$B$49,I31) -> 62 | L31: =SUMIFS($E$26:$E$49,$A$26:$A$49,$G$38,$B$26:$B$49,I31) -> 0.26
A32: Miguel | B32: Actividad 7 | C32: 44161 | D32: 19 | E32: 0.06 | G32: Colaborador | I32: Actividad 7 | J32: =SUMIFS($C$26:$C$49,$A$26:$A$49,$G$38,$B$26:$B$49,I32) -> 44161 | K32: =SUMIFS($D$26:$D$49,$A$26:$A$49,$G$38,$B$26:$B$49,I32) -> 19 | L32: =SUMIFS($E$26:$E$49,$A$26:$A$49,$G$38,$B$26:$B$49,I32) -> 0.06
A33: Miguel | B33: Actividad 8 | C33: 43970 | D33: 95 | E33: 0.62 | G33: Miguel
A34: Maria | B34: Actividad 1 | C34: 44074 | D34: 16 | E34: 0.64 | G34: Maria | I34: Etiquetas de fila
A35: Maria | B35: Actividad 2 | C35: 43960 | D35: 20 | E35: 0.66 | G35: Arturo | I35: Miguel
A36: Maria | B36: Actividad 3 | C36: 44120 | D36: 65 | E36: 0.86 | I36: Total general
A37: Maria | B37: Actividad 4 | C37: 43883 | D37: 23 | E37: 0.16
A38: Maria | B38: Actividad 5 | C38: 44131 | D38: 95 | E38: 0.62 | G38: =I35 -> Miguel
A39: Maria | B39: Actividad 6 | C39: 43888 | D39: 26 | E39: 0.26
A40: Maria | B40: Actividad 7 | C40: 44143 | D40: 91 | E40: 0.66
A41: Maria | B41: Actividad 8 | C41: 44051 | D41: 59 | E41: 0.86
A42: Arturo | B42: Actividad 1 | C42: 44106 | D42: 40 | E42: 0.66
A43: Arturo | B43: Actividad 2 | C43: 43977 | D43: 59 | E43: 0.1
A44: Arturo | B44: Actividad 3 | C44: 43970 | D44: 62 | E44: 0.26
A45: Arturo | B45: Actividad 4 | C45: 44074 | D45: 19 | E45: 0.06
A46: Arturo | B46: Actividad 5 | C46: 43960 | D46: 95 | E46: 0.62
A47: Arturo | B47: Actividad 6 | C47: 44120 | D47: 95 | E47: 0.62
A48: Arturo | B48: Actividad 7 | C48: 43960 | D48: 26 | E48: 0.26
A49: Arturo | B49: Actividad 8 | C49: 44059 | D49: 91 | E49: 0.66
A70: Avance General | B70: ='Plan 01'!E6 -> 0.45125 | C70: Velocimetro
A71: Componente 01 | B71: ='Plan 01'!E7 -> 0.7625 | C71: Metrica Lineal Semaforo
A72: Componente 02 | B72: ='Plan 01'!E12 -> 0.14 | C72: Metrica Lineal Semaforo
A76: Componente 01 | B76: =B71 -> 0.7625
B77: 0.1 | C77: 0.1 | D77: 0.1 | E77: 0.1 | F77: 0.1 | G77: 0.1 | H77: 0.1 | I77: 0.1 | J77: 0.1 | K77: 0.1
B78: =B76-C78 -> 0.7325 | C78: 0.03 | D78: =100%-SUM(B78:C78) -> 0.2375
B79: Indicador - Aguja | C79: Aguja | D79: Resta 100% - suma(Indicador - aguja + aguja)
A86: Componente 02 | B86: =B72 -> 0.14
B87: 0.1 | C87: 0.1 | D87: 0.1 | E87: 0.1 | F87: 0.1 | G87: 0.1 | H87: 0.1 | I87: 0.1 | J87: 0.1 | K87: 0.1
B88: =B86-C88 -> 0.11 | C88: 0.03 | D88: =100%-SUM(B88:C88) -> 0.86
B89: Indicador - Aguja | C89: Aguja | D89: Resta 100% - suma(Indicador - aguja + aguja)
...

Sheet Plan 02
A1: Actividad | B1: Asigando a | C1: Fecha Inicio | D1: Fecha Fin | E1: Días requeridos | F1: Estado | G1: Fecha real Inicio | H1: Fecha real fin | I1: % Avance
A2: Actividad 01 | B2: Colaborador 01 | C2: 43871 | D2: =C2+E2-1 -> 43885 | E2: 15 | F2: Completado | G2: 43882 | H2: 43993 | I2: 0.2
A3: Actividad 02 | B3: Colaborador 01 | C3: 43877 | D3: =C3+E3-1 -> 43887 | E3: 11 | F3: Completado | G3: 43885 | H3: 44032 | I3: 0.62
A4: Actividad 03 | B4: Colaborador 01 | C4: 43884 | D4: =C4+E4-1 -> 43889 | E4: 6 | F4: Completado | G4: 43888 | H4: 44071 | I4: 0.15
A5: Actividad 04 | B5: Colaborador 01 | C5: 43896 | D5: =C5+E5-1 -> 43906 | E5: 11 | F5: En Proceso | G5: 43891 | H5: 44110 | I5: 0.42
A6: Actividad 05 | B6: Colaborador 01 | C6: 43868 | D6: =C6+E6-1 -> 43871 | E6: 4 | F6: Completado | G6: 43892 | H6: 44149 | I6: 0.33
A7: Actividad 06 | B7: Colaborador 01 | C7: 43874 | D7: =C7+E7-1 -> 43882 | E7: 9 | F7: Completado | G7: 43902 | H7: 44188 | I7: 0.78
A8: Actividad 07 | B8: Colaborador 01 | C8: 43876 | D8: =C8+E8-1 -> 43883 | E8: 8 | F8: En Proceso | G8: 43905 | H8: 44110 | I8: 1
A9: Actividad 08 | B9: Colaborador 01 | C9: 43883 | D9: =C9+E9-1 -> 43892 | E9: 10 | F9: En Proceso | G9: 43911 | H9: 44149 | I9: 0
A10: Actividad 09 | B10: Colaborador 01 | C10: 43887 | D10: =C10+E10-1 -> 43900 | E10: 14 | F10: En Proceso | G10: 43920 | H10: 44188 | I10: 0
A11: Actividad 10 | B11: Colaborador 01 | C11: 43879 | D11: =C11+E11-1 -> 43894 | E11: 16 | F11: En Proceso | G11: 43922 | H11: 44227 | I11: 0.66
A12: Actividad 01 | B12: Colaborador 02 | C12: 43866 | D12: =C12+E12-1 -> 43885 | E12: 20 | F12: En Proceso | G12: 43928 | H12: 44266 | I12: 1
A13: Actividad 02 | B13: Colaborador 02 | C13: 43884 | D13: =C13+E13-1 -> 43896 | E13: 13 | F13: En Proceso | G13: 43935 | H13: 44305 | I13: 0
... A51: Actividad 10 | B51: Colaborador 05 | C51: 43945 | D51: =C51+E51-1 -> 43957 | E51: 13 | F51: En Proceso | G51: 44045 | H51: 45241 | I51: 0.46
